BEGIN:VCALENDAR
VERSION:2.0
PRODID:-//St Elizabeth&#039;s Primary School - ECPv6.15.20//NONSGML v1.0//EN
CALSCALE:GREGORIAN
METHOD:PUBLISH
X-WR-CALNAME:St Elizabeth&#039;s Primary School
X-ORIGINAL-URL:https://st-elizabethsprimary.co.uk
X-WR-CALDESC:Events for St Elizabeth&#039;s Primary School
REFRESH-INTERVAL;VALUE=DURATION:PT1H
X-Robots-Tag:noindex
X-PUBLISHED-TTL:PT1H
BEGIN:VTIMEZONE
TZID:UTC
BEGIN:STANDARD
TZOFFSETFROM:+0000
TZOFFSETTO:+0000
TZNAME:UTC
DTSTART:20200101T000000
END:STANDARD
END:VTIMEZONE
BEGIN:VEVENT
DTSTART;VALUE=DATE:20211207
DTEND;VALUE=DATE:20211208
DTSTAMP:20260424T015208
CREATED:20211203T133524Z
LAST-MODIFIED:20211203T133524Z
UID:13875-1638835200-1638921599@st-elizabethsprimary.co.uk
SUMMARY:Christmas Multiskills
DESCRIPTION:
URL:https://st-elizabethsprimary.co.uk/event/christmas-multiskills/
END:VEVENT
BEGIN:VEVENT
DTSTART;VALUE=DATE:20211209
DTEND;VALUE=DATE:20211210
DTSTAMP:20260424T015208
CREATED:20211203T133556Z
LAST-MODIFIED:20211203T133556Z
UID:13877-1639008000-1639094399@st-elizabethsprimary.co.uk
SUMMARY:Y6 bulb planting
DESCRIPTION:
URL:https://st-elizabethsprimary.co.uk/event/y6-bulb-planting/
END:VEVENT
BEGIN:VEVENT
DTSTART;VALUE=DATE:20211210
DTEND;VALUE=DATE:20211211
DTSTAMP:20260424T015208
CREATED:20211201T083934Z
LAST-MODIFIED:20211201T083934Z
UID:13833-1639094400-1639180799@st-elizabethsprimary.co.uk
SUMMARY:Santa Dash
DESCRIPTION:
URL:https://st-elizabethsprimary.co.uk/event/santa-dash-2/
END:VEVENT
BEGIN:VEVENT
DTSTART;VALUE=DATE:20211213
DTEND;VALUE=DATE:20211214
DTSTAMP:20260424T015208
CREATED:20211203T133647Z
LAST-MODIFIED:20211203T133647Z
UID:13879-1639353600-1639439999@st-elizabethsprimary.co.uk
SUMMARY:GANGS project
DESCRIPTION:
URL:https://st-elizabethsprimary.co.uk/event/gangs-project/
END:VEVENT
BEGIN:VEVENT
DTSTART;VALUE=DATE:20211215
DTEND;VALUE=DATE:20211216
DTSTAMP:20260424T015208
CREATED:20211201T084002Z
LAST-MODIFIED:20211209T120413Z
UID:13835-1639526400-1639612799@st-elizabethsprimary.co.uk
SUMMARY:Christmas Dinner
DESCRIPTION:Christmas Dinner letter December 2021 \nChildren to wear normal school uniform with some Christmas items if they wish – hat\, jumper\, headband etc.
URL:https://st-elizabethsprimary.co.uk/event/christmas-dinner/
END:VEVENT
BEGIN:VEVENT
DTSTART;VALUE=DATE:20211217
DTEND;VALUE=DATE:20211218
DTSTAMP:20260424T015208
CREATED:20211201T084039Z
LAST-MODIFIED:20211209T121213Z
UID:13837-1639699200-1639785599@st-elizabethsprimary.co.uk
SUMMARY:Own Clothes Day
DESCRIPTION:Children can wear their own clothes (preferably something warm!) \nWe are asking for a donation of £1 which will be exchanged for raffle tickets to raise money for the PTA to support Christmas Parties for all classes.
URL:https://st-elizabethsprimary.co.uk/event/christmas-party-own-clothes-day/
END:VEVENT
BEGIN:VEVENT
DTSTART;VALUE=DATE:20211220
DTEND;VALUE=DATE:20211221
DTSTAMP:20260424T015208
CREATED:20211201T084211Z
LAST-MODIFIED:20211201T084211Z
UID:13839-1639958400-1640044799@st-elizabethsprimary.co.uk
SUMMARY:Christmas Mass
DESCRIPTION:9.30 am at St Elizabeth’s Church. \nUnfortunately due to Covid restrictions this is limited to children and staff only. 
URL:https://st-elizabethsprimary.co.uk/event/christmas-mass-2/
END:VEVENT
BEGIN:VEVENT
DTSTART;VALUE=DATE:20211221
DTEND;VALUE=DATE:20211222
DTSTAMP:20260424T015208
CREATED:20211209T115608Z
LAST-MODIFIED:20211209T121417Z
UID:13922-1640044800-1640131199@st-elizabethsprimary.co.uk
SUMMARY:Christmas party
DESCRIPTION:Christmas Party Day for all classes. Children can wear their own clothes for the party. Christmas items can be worn if they wish.
URL:https://st-elizabethsprimary.co.uk/event/christmas-party/
END:VEVENT
BEGIN:VEVENT
DTSTART;TZID=UTC:20211222T085500
DTEND;TZID=UTC:20211222T133000
DTSTAMP:20260424T015208
CREATED:20210416T134146Z
LAST-MODIFIED:20210416T140120Z
UID:13344-1640163300-1640179800@st-elizabethsprimary.co.uk
SUMMARY:School closes for Christmas Break
DESCRIPTION:Term ends at 1.30 pm.
URL:https://st-elizabethsprimary.co.uk/event/school-closes-for-christmas-break-3/
END:VEVENT
END:VCALENDAR