BEGIN:VCALENDAR
VERSION:2.0
PRODID:-//St Elizabeth&#039;s Primary School - ECPv6.15.20//NONSGML v1.0//EN
CALSCALE:GREGORIAN
METHOD:PUBLISH
X-ORIGINAL-URL:https://st-elizabethsprimary.co.uk
X-WR-CALDESC:Events for St Elizabeth&#039;s Primary School
REFRESH-INTERVAL;VALUE=DURATION:PT1H
X-Robots-Tag:noindex
X-PUBLISHED-TTL:PT1H
BEGIN:VTIMEZONE
TZID:UTC
BEGIN:STANDARD
TZOFFSETFROM:+0000
TZOFFSETTO:+0000
TZNAME:UTC
DTSTART:20210101T000000
END:STANDARD
END:VTIMEZONE
BEGIN:VEVENT
DTSTART;VALUE=DATE:20221207
DTEND;VALUE=DATE:20221208
DTSTAMP:20260423T092422
CREATED:20221125T145920Z
LAST-MODIFIED:20221125T150104Z
UID:14936-1670371200-1670457599@st-elizabethsprimary.co.uk
SUMMARY:Year 4 Sacrament of Reconciliation
DESCRIPTION:St Elizabeth’s Church at 9.30 am
URL:https://st-elizabethsprimary.co.uk/event/year-4-sacrament-of-reconciliation/
END:VEVENT
BEGIN:VEVENT
DTSTART;VALUE=DATE:20221209
DTEND;VALUE=DATE:20221210
DTSTAMP:20260423T092422
CREATED:20221125T150142Z
LAST-MODIFIED:20221125T150142Z
UID:14938-1670544000-1670630399@st-elizabethsprimary.co.uk
SUMMARY:Santa Dash
DESCRIPTION:
URL:https://st-elizabethsprimary.co.uk/event/santa-dash-3/
END:VEVENT
BEGIN:VEVENT
DTSTART;VALUE=DATE:20221213
DTEND;VALUE=DATE:20221214
DTSTAMP:20260423T092422
CREATED:20221125T150249Z
LAST-MODIFIED:20221125T150249Z
UID:14940-1670889600-1670975999@st-elizabethsprimary.co.uk
SUMMARY:Carol Service
DESCRIPTION:In St Elizabeth’s Church  \nYear 1 – Year 6 \n10.30 am
URL:https://st-elizabethsprimary.co.uk/event/carol-service/
END:VEVENT
BEGIN:VEVENT
DTSTART;VALUE=DATE:20221214
DTEND;VALUE=DATE:20221215
DTSTAMP:20260423T092422
CREATED:20221125T150317Z
LAST-MODIFIED:20221125T150317Z
UID:14942-1670976000-1671062399@st-elizabethsprimary.co.uk
SUMMARY:Christmas Dinner
DESCRIPTION:
URL:https://st-elizabethsprimary.co.uk/event/christmas-dinner-2/
END:VEVENT
BEGIN:VEVENT
DTSTART;VALUE=DATE:20221219
DTEND;VALUE=DATE:20221220
DTSTAMP:20260423T092422
CREATED:20221125T150508Z
LAST-MODIFIED:20221125T151003Z
UID:14946-1671408000-1671494399@st-elizabethsprimary.co.uk
SUMMARY:Christmas Mass
DESCRIPTION:Christmas Mass in Church at 9.30 am \n 
URL:https://st-elizabethsprimary.co.uk/event/nursery-christmas-concert-2/
END:VEVENT
BEGIN:VEVENT
DTSTART;VALUE=DATE:20221219
DTEND;VALUE=DATE:20221220
DTSTAMP:20260423T092422
CREATED:20221125T151046Z
LAST-MODIFIED:20221125T151046Z
UID:14953-1671408000-1671494399@st-elizabethsprimary.co.uk
SUMMARY:Nursey Christmas Concert
DESCRIPTION:In KS1 Hall at 1.30 pm
URL:https://st-elizabethsprimary.co.uk/event/nursey-christmas-concert/
END:VEVENT
BEGIN:VEVENT
DTSTART;VALUE=DATE:20221220
DTEND;VALUE=DATE:20221221
DTSTAMP:20260423T092422
CREATED:20221201T093352Z
LAST-MODIFIED:20221201T093352Z
UID:14974-1671494400-1671580799@st-elizabethsprimary.co.uk
SUMMARY:Christmas Party Day
DESCRIPTION:
URL:https://st-elizabethsprimary.co.uk/event/christmas-party-day-2/
END:VEVENT
BEGIN:VEVENT
DTSTART;VALUE=DATE:20221221
DTEND;VALUE=DATE:20221222
DTSTAMP:20260423T092422
CREATED:20221007T121751Z
LAST-MODIFIED:20221007T122300Z
UID:14679-1671580800-1671667199@st-elizabethsprimary.co.uk
SUMMARY:School closes for Christmas Break
DESCRIPTION:School closes at 1.30 pm
URL:https://st-elizabethsprimary.co.uk/event/school-closes-for-christmas-break-4/
END:VEVENT
END:VCALENDAR