BEGIN:VCALENDAR
VERSION:2.0
PRODID:-//St Elizabeth&#039;s Primary School - ECPv6.15.20//NONSGML v1.0//EN
CALSCALE:GREGORIAN
METHOD:PUBLISH
X-WR-CALNAME:St Elizabeth&#039;s Primary School
X-ORIGINAL-URL:https://st-elizabethsprimary.co.uk
X-WR-CALDESC:Events for St Elizabeth&#039;s Primary School
REFRESH-INTERVAL;VALUE=DURATION:PT1H
X-Robots-Tag:noindex
X-PUBLISHED-TTL:PT1H
BEGIN:VTIMEZONE
TZID:UTC
BEGIN:STANDARD
TZOFFSETFROM:+0000
TZOFFSETTO:+0000
TZNAME:UTC
DTSTART:20220101T000000
END:STANDARD
END:VTIMEZONE
BEGIN:VEVENT
DTSTART;VALUE=DATE:20230501
DTEND;VALUE=DATE:20230502
DTSTAMP:20260423T023606
CREATED:20221007T122622Z
LAST-MODIFIED:20221007T122622Z
UID:14693-1682899200-1682985599@st-elizabethsprimary.co.uk
SUMMARY:Bank Holiday
DESCRIPTION:School closed
URL:https://st-elizabethsprimary.co.uk/event/bank-holiday-3/
END:VEVENT
BEGIN:VEVENT
DTSTART;VALUE=DATE:20230508
DTEND;VALUE=DATE:20230509
DTSTAMP:20260423T023606
CREATED:20230418T080031Z
LAST-MODIFIED:20230418T080521Z
UID:15664-1683504000-1683590399@st-elizabethsprimary.co.uk
SUMMARY:Kings Charles' Coronation Bank Holiday
DESCRIPTION:School closed for the celebration of the Coronation of King Charles. 
URL:https://st-elizabethsprimary.co.uk/event/kings-charles-coronation-bank-holiday/
END:VEVENT
BEGIN:VEVENT
DTSTART;VALUE=DATE:20230517
DTEND;VALUE=DATE:20230518
DTSTAMP:20260423T023606
CREATED:20230428T125056Z
LAST-MODIFIED:20230516T123808Z
UID:15719-1684281600-1684367999@st-elizabethsprimary.co.uk
SUMMARY:Wear it Green Day
DESCRIPTION:Children will be asked to come into school wearing something green to show our support to the Mental Health Foundation. Please do not go to any extra cost for this as even green socks or a hairband is fine. \nWear it Green 16.05.23
URL:https://st-elizabethsprimary.co.uk/event/wear-it-green-day/
END:VEVENT
BEGIN:VEVENT
DTSTART;VALUE=DATE:20230522
DTEND;VALUE=DATE:20230603
DTSTAMP:20260423T023606
CREATED:20221007T122809Z
LAST-MODIFIED:20221007T123249Z
UID:14696-1684713600-1685750399@st-elizabethsprimary.co.uk
SUMMARY:Summer Half Term
DESCRIPTION:Half Term incorporating late May Bank Holiday
URL:https://st-elizabethsprimary.co.uk/event/summer-half-term-4/
END:VEVENT
END:VCALENDAR