BEGIN:VCALENDAR
VERSION:2.0
PRODID:-//St Elizabeth&#039;s Primary School - ECPv6.15.20//NONSGML v1.0//EN
CALSCALE:GREGORIAN
METHOD:PUBLISH
X-ORIGINAL-URL:https://st-elizabethsprimary.co.uk
X-WR-CALDESC:Events for St Elizabeth&#039;s Primary School
REFRESH-INTERVAL;VALUE=DURATION:PT1H
X-Robots-Tag:noindex
X-PUBLISHED-TTL:PT1H
BEGIN:VTIMEZONE
TZID:UTC
BEGIN:STANDARD
TZOFFSETFROM:+0000
TZOFFSETTO:+0000
TZNAME:UTC
DTSTART:20220101T000000
END:STANDARD
END:VTIMEZONE
BEGIN:VEVENT
DTSTART;VALUE=DATE:20231221
DTEND;VALUE=DATE:20240110
DTSTAMP:20260422T151137
CREATED:20231221T144546Z
LAST-MODIFIED:20231221T150534Z
UID:16440-1703116800-1704844799@st-elizabethsprimary.co.uk
SUMMARY:Raffle Winners
DESCRIPTION:St Elizabeth’s Christmas Raffle Winners 2023 \n1st Prize: £100: Hope 5T \n2nd Prize: Signed Liverpool shirt: Jessica 5T \n3rd Prize: Hamper: Albie Reception \n4th Prize: Hamper: Josh Reception \n5th Prize: £25 Longton Hall Voucher: Sam 4KB \n6th Prize: £25 Longton Hall Voucher: Andrew 5J \n7th Prize: Hamper: Kacey Reception \n8th Prize: Hamper: Leo 3F \n9th Prize: £10 Asda Voucher: Nick \n10th Prize: £10 Asda Voucher: Aiden 5T \n11th Prize: £10 Alexandra’s Voucher: Luca 6H \n12th Prize: £10 Alexandra’s Voucher: Cody 2J \n13th Prize: £10 Alexandra’s Voucher: Jacob 2J \n14th Prize: Flowers/Chocs/Wine: James 2J \n15th Prize: Biscuits/Prosecco: Lois 6B \n16th Prize: Biscuits/Prosecco: Renae 2J \n17th Prize: Biscuits/Prosecco: Kathy \n18th Prize: Biscuits/Prosecco: Skye 1O’C \n19th Prize: Biscuits/Prosecco: Paddy 2J \n20th Prize: Biscuits/Prosecco: Aiyana 5T \n21st Prize: Biscuits/Prosecco: Isla 4KB \nThank you to everyone who donated prizes for the raffle and everyone who bought tickets to support our school. \nWe wish you all a Merry Christmas and a Happy New Year.
URL:https://st-elizabethsprimary.co.uk/event/raffle-wins/
END:VEVENT
BEGIN:VEVENT
DTSTART;VALUE=DATE:20240109
DTEND;VALUE=DATE:20240110
DTSTAMP:20260422T151137
CREATED:20230905T123047Z
LAST-MODIFIED:20230905T123941Z
UID:15936-1704758400-1704844799@st-elizabethsprimary.co.uk
SUMMARY:Spring Term 2024
DESCRIPTION:
URL:https://st-elizabethsprimary.co.uk/event/spring-term/
END:VEVENT
END:VCALENDAR