BEGIN:VCALENDAR
VERSION:2.0
PRODID:-//St Elizabeth&#039;s Primary School - ECPv6.15.20//NONSGML v1.0//EN
CALSCALE:GREGORIAN
METHOD:PUBLISH
X-WR-CALNAME:St Elizabeth&#039;s Primary School
X-ORIGINAL-URL:https://st-elizabethsprimary.co.uk
X-WR-CALDESC:Events for St Elizabeth&#039;s Primary School
REFRESH-INTERVAL;VALUE=DURATION:PT1H
X-Robots-Tag:noindex
X-PUBLISHED-TTL:PT1H
BEGIN:VTIMEZONE
TZID:UTC
BEGIN:STANDARD
TZOFFSETFROM:+0000
TZOFFSETTO:+0000
TZNAME:UTC
DTSTART:20250101T000000
END:STANDARD
END:VTIMEZONE
BEGIN:VEVENT
DTSTART;VALUE=DATE:20260717
DTEND;VALUE=DATE:20260718
DTSTAMP:20260420T194033
CREATED:20250905T104342Z
LAST-MODIFIED:20250905T104404Z
UID:17575-1784246400-1784332799@st-elizabethsprimary.co.uk
SUMMARY:Summer Term Finishes
DESCRIPTION:Term Finishes 1.30pm.
URL:https://st-elizabethsprimary.co.uk/event/summer-term-finishes-3/
END:VEVENT
END:VCALENDAR